BEGIN:VCALENDAR
VERSION:2.0
PRODID:-//hacksw/handcal//NONSGML v1.0//EN
BEGIN:VEVENT
UID:10007
DTSTART;VALUE=DATE:20180209
URL;VALUE=URI:ohschonhell.at/?page_id=21215
SUMMARY:5€urofunk: New YE∆R Premier
LOCATION:PRIME
END:VEVENT
END:VCALENDAR


