BEGIN:VCALENDAR
VERSION:2.0
PRODID:-//hacksw/handcal//NONSGML v1.0//EN
BEGIN:VEVENT
UID:10020
DTSTART;VALUE=DATE:20180216
URL;VALUE=URI:ohschonhell.at/?page_id=21242
SUMMARY:Meuterei x Akt des Erwachens pres. Artefakt LIVE
LOCATION:Meuterei
END:VEVENT
END:VCALENDAR


