BEGIN:VCALENDAR
VERSION:2.0
PRODID:-//hacksw/handcal//NONSGML v1.0//EN
BEGIN:VEVENT
UID:10022
DTSTART;VALUE=DATE:20180214
URL;VALUE=URI:ohschonhell.at/?page_id=21246
SUMMARY:PeaceSpirit - wednesday Art-Club Lounge
LOCATION:PRIME
END:VEVENT
END:VCALENDAR


