BEGIN:VCALENDAR
VERSION:2.0
PRODID:-//hacksw/handcal//NONSGML v1.0//EN
BEGIN:VEVENT
UID:10028
DTSTART;VALUE=DATE:20180216
URL;VALUE=URI:ohschonhell.at/?page_id=21258
SUMMARY:G.SPOT neu CLUB Titanic
LOCATION:CLUB TITANIC
END:VEVENT
END:VCALENDAR


