BEGIN:VCALENDAR
VERSION:2.0
PRODID:-//hacksw/handcal//NONSGML v1.0//EN
BEGIN:VEVENT
UID:10031
DTSTART;VALUE=DATE:20180609
URL;VALUE=URI:ohschonhell.at/?page_id=21264
SUMMARY:Trance City - Vienna in Trance | ✪ 7 DJs ✪ (09.06.2018)
LOCATION:NOX Bar
END:VEVENT
END:VCALENDAR


