BEGIN:VCALENDAR
VERSION:2.0
PRODID:-//hacksw/handcal//NONSGML v1.0//EN
BEGIN:VEVENT
UID:10038
DTSTART;VALUE=DATE:20180215
URL;VALUE=URI:ohschonhell.at/?page_id=21278
SUMMARY:Wiener Linie - WTF and friends
LOCATION:U4
END:VEVENT
END:VCALENDAR


