BEGIN:VCALENDAR
VERSION:2.0
PRODID:-//hacksw/handcal//NONSGML v1.0//EN
BEGIN:VEVENT
UID:10042
DTSTART;VALUE=DATE:20180316
URL;VALUE=URI:ohschonhell.at/?page_id=21286
SUMMARY:TeKK meets French - Vol.2 - Freeparty
LOCATION:MASSIV
END:VEVENT
END:VCALENDAR


