BEGIN:VCALENDAR
VERSION:2.0
PRODID:-//hacksw/handcal//NONSGML v1.0//EN
BEGIN:VEVENT
UID:10044
DTSTART;VALUE=DATE:20180310
URL;VALUE=URI:ohschonhell.at/?page_id=21290
SUMMARY:Zinnober /w Mira〡Ein magischer Maskenball
LOCATION:Zinnober
END:VEVENT
END:VCALENDAR


