BEGIN:VCALENDAR
VERSION:2.0
PRODID:-//hacksw/handcal//NONSGML v1.0//EN
BEGIN:VEVENT
UID:10045
DTSTART;VALUE=DATE:20180309
URL;VALUE=URI:ohschonhell.at/?page_id=21292
SUMMARY:Electric Forest - Semester Opening
LOCATION:WU MENSA
END:VEVENT
END:VCALENDAR


