BEGIN:VCALENDAR
VERSION:2.0
PRODID:-//hacksw/handcal//NONSGML v1.0//EN
BEGIN:VEVENT
UID:10046
DTSTART;VALUE=DATE:20180309
URL;VALUE=URI:ohschonhell.at/?page_id=21294
SUMMARY:Techno:Lab
LOCATION:Club Change
END:VEVENT
END:VCALENDAR


