BEGIN:VCALENDAR
VERSION:2.0
PRODID:-//hacksw/handcal//NONSGML v1.0//EN
BEGIN:VEVENT
UID:10053
DTSTART;VALUE=DATE:20180302
URL;VALUE=URI:ohschonhell.at/?page_id=21308
SUMMARY:Techno entgleist x Free Party x
LOCATION:AUSLAGE
END:VEVENT
END:VCALENDAR


