BEGIN:VCALENDAR
VERSION:2.0
PRODID:-//hacksw/handcal//NONSGML v1.0//EN
BEGIN:VEVENT
UID:10058
DTSTART;VALUE=DATE:20180323
URL;VALUE=URI:ohschonhell.at/?page_id=21319
SUMMARY:TC &amp\; TLC present Klute [UK]
LOCATION:CAMERA CLUB
END:VEVENT
END:VCALENDAR


