BEGIN:VCALENDAR
VERSION:2.0
PRODID:-//hacksw/handcal//NONSGML v1.0//EN
BEGIN:VEVENT
UID:10065
DTSTART;VALUE=DATE:20180310
URL;VALUE=URI:ohschonhell.at/?page_id=21333
SUMMARY:PSY-DARKroom vol.4 mit AFTERhour bis 10:30
LOCATION:MASSIV
END:VEVENT
END:VCALENDAR


