BEGIN:VCALENDAR
VERSION:2.0
PRODID:-//hacksw/handcal//NONSGML v1.0//EN
BEGIN:VEVENT
UID:10070
DTSTART;VALUE=DATE:20180302
URL;VALUE=URI:ohschonhell.at/?page_id=21345
SUMMARY:Horst &amp\; Hannelore w/ BOOKA SHADE
LOCATION:HORST
END:VEVENT
END:VCALENDAR


