BEGIN:VCALENDAR
VERSION:2.0
PRODID:-//hacksw/handcal//NONSGML v1.0//EN
BEGIN:VEVENT
UID:10085
DTSTART;VALUE=DATE:20180224
URL;VALUE=URI:ohschonhell.at/?page_id=21377
SUMMARY:Switch! pres. Booyah feat. Benny Page (UK)
LOCATION:CAMERA CLUB
END:VEVENT
END:VCALENDAR


