BEGIN:VCALENDAR
VERSION:2.0
PRODID:-//hacksw/handcal//NONSGML v1.0//EN
BEGIN:VEVENT
UID:10101
DTSTART;VALUE=DATE:20180427
URL;VALUE=URI:ohschonhell.at/?page_id=21417
SUMMARY:Cycledelic Ceremony w/ Meerkut Live\, Chudl Live
LOCATION:Event Arena Vösendorf
END:VEVENT
END:VCALENDAR


