BEGIN:VCALENDAR
VERSION:2.0
PRODID:-//hacksw/handcal//NONSGML v1.0//EN
BEGIN:VEVENT
UID:10153
DTSTART;VALUE=DATE:20180314
URL;VALUE=URI:ohschonhell.at/?page_id=21527
SUMMARY:MärzAU 2018
LOCATION:AU
END:VEVENT
END:VCALENDAR


