BEGIN:VCALENDAR
VERSION:2.0
PRODID:-//hacksw/handcal//NONSGML v1.0//EN
BEGIN:VEVENT
UID:10218
DTSTART;VALUE=DATE:20180228
URL;VALUE=URI:ohschonhell.at/?page_id=21657
SUMMARY:Highscore x Drum&amp\;Bass
LOCATION:FLUCC
END:VEVENT
END:VCALENDAR


