BEGIN:VCALENDAR
VERSION:2.0
PRODID:-//hacksw/handcal//NONSGML v1.0//EN
BEGIN:VEVENT
UID:10224
DTSTART;VALUE=DATE:20180309
URL;VALUE=URI:ohschonhell.at/?page_id=21672
SUMMARY:Toner | Stuwer
LOCATION:OPERA CLUB
END:VEVENT
END:VCALENDAR


