BEGIN:VCALENDAR
VERSION:2.0
PRODID:-//hacksw/handcal//NONSGML v1.0//EN
BEGIN:VEVENT
UID:10232
DTSTART;VALUE=DATE:20180304
URL;VALUE=URI:ohschonhell.at/?page_id=21692
SUMMARY:MorgenKlang w/ Ferdinand Hübl &amp\; Fresh Otis
LOCATION:MorgenKlang
END:VEVENT
END:VCALENDAR


