BEGIN:VCALENDAR
VERSION:2.0
PRODID:-//hacksw/handcal//NONSGML v1.0//EN
BEGIN:VEVENT
UID:10233
DTSTART;VALUE=DATE:20180419
URL;VALUE=URI:ohschonhell.at/?page_id=21694
SUMMARY:URBAN BLOOM Festival 2018
LOCATION:Urban Bloom Festival
END:VEVENT
END:VCALENDAR


