BEGIN:VCALENDAR
VERSION:2.0
PRODID:-//hacksw/handcal//NONSGML v1.0//EN
BEGIN:VEVENT
UID:10239
DTSTART;VALUE=DATE:20180406
URL;VALUE=URI:ohschonhell.at/?page_id=21706
SUMMARY:Techno.Deluxe w/ Sterac\, Alexander Kowalski\, Heiko Laux
LOCATION:GRELLE FORELLE
END:VEVENT
END:VCALENDAR


