BEGIN:VCALENDAR
VERSION:2.0
PRODID:-//hacksw/handcal//NONSGML v1.0//EN
BEGIN:VEVENT
UID:10241
DTSTART;VALUE=DATE:20180323
URL;VALUE=URI:ohschonhell.at/?page_id=21710
SUMMARY:Coming HOME # 6 /w Dorfmeister\, Makossa &amp\; Megablast\, Sugar B
LOCATION:ROTE BAR
END:VEVENT
END:VCALENDAR


