BEGIN:VCALENDAR
VERSION:2.0
PRODID:-//hacksw/handcal//NONSGML v1.0//EN
BEGIN:VEVENT
UID:10258
DTSTART;VALUE=DATE:20180309
URL;VALUE=URI:ohschonhell.at/?page_id=21750
SUMMARY:Spontan Techno - Eisschmelze
LOCATION:HORST
END:VEVENT
END:VCALENDAR


