BEGIN:VCALENDAR
VERSION:2.0
PRODID:-//hacksw/handcal//NONSGML v1.0//EN
BEGIN:VEVENT
UID:10265
DTSTART;VALUE=DATE:20180330
URL;VALUE=URI:ohschonhell.at/?page_id=21770
SUMMARY:Horst &amp\; Hannelore w/ BOYS NOIZE
LOCATION:HORST
END:VEVENT
END:VCALENDAR


