BEGIN:VCALENDAR
VERSION:2.0
PRODID:-//hacksw/handcal//NONSGML v1.0//EN
BEGIN:VEVENT
UID:10293
DTSTART;VALUE=DATE:20180401
URL;VALUE=URI:ohschonhell.at/?page_id=21876
SUMMARY:Psychedelic HORST pres. by Cosmic &amp\; Finest Psytrance Events AT
LOCATION:HORST
END:VEVENT
END:VCALENDAR


