BEGIN:VCALENDAR
VERSION:2.0
PRODID:-//hacksw/handcal//NONSGML v1.0//EN
BEGIN:VEVENT
UID:10314
DTSTART;VALUE=DATE:20180324
URL;VALUE=URI:ohschonhell.at/?page_id=21924
SUMMARY:Edgar Tronic´s ★20|40★ Supernatural Birthday Party
LOCATION:SASS
END:VEVENT
END:VCALENDAR


