BEGIN:VCALENDAR
VERSION:2.0
PRODID:-//hacksw/handcal//NONSGML v1.0//EN
BEGIN:VEVENT
UID:10329
DTSTART;VALUE=DATE:20180331
URL;VALUE=URI:ohschonhell.at/?page_id=21983
SUMMARY:Erna kramt #7 (free entry)
LOCATION:Kramladen
END:VEVENT
END:VCALENDAR


