BEGIN:VCALENDAR
VERSION:2.0
PRODID:-//hacksw/handcal//NONSGML v1.0//EN
BEGIN:VEVENT
UID:10338
DTSTART;VALUE=DATE:20180530
URL;VALUE=URI:ohschonhell.at/?page_id=22018
SUMMARY:Funny Moon Preparty Vienna
LOCATION:AUSLAGE
END:VEVENT
END:VCALENDAR


