BEGIN:VCALENDAR
VERSION:2.0
PRODID:-//hacksw/handcal//NONSGML v1.0//EN
BEGIN:VEVENT
UID:1034
DTSTART;VALUE=DATE:20140411
URL;VALUE=URI:ohschonhell.at/?page_id=3503
SUMMARY:Fairlight Club presents: ZIMMER (Discotexas || Paris)
LOCATION:CAFE LEOPOLD
END:VEVENT
END:VCALENDAR


