BEGIN:VCALENDAR
VERSION:2.0
PRODID:-//hacksw/handcal//NONSGML v1.0//EN
BEGIN:VEVENT
UID:10345
DTSTART;VALUE=DATE:20180430
URL;VALUE=URI:ohschonhell.at/?page_id=22034
SUMMARY:Horst &amp\; Hannelore mit Kollektiv Turmstrasse
LOCATION:HORST
END:VEVENT
END:VCALENDAR


