BEGIN:VCALENDAR
VERSION:2.0
PRODID:-//hacksw/handcal//NONSGML v1.0//EN
BEGIN:VEVENT
UID:1035
DTSTART;VALUE=DATE:20140405
URL;VALUE=URI:ohschonhell.at/?page_id=3504
SUMMARY:☆★♡Projekt:zumInder♥☆★ 《Probelauf Nr. 3》
LOCATION:SUMMER STATION
END:VEVENT
END:VCALENDAR


