BEGIN:VCALENDAR
VERSION:2.0
PRODID:-//hacksw/handcal//NONSGML v1.0//EN
BEGIN:VEVENT
UID:10355
DTSTART;VALUE=DATE:20180406
URL;VALUE=URI:ohschonhell.at/?page_id=22056
SUMMARY:DIE GUTE UTE
LOCATION:OPERA CLUB
END:VEVENT
END:VCALENDAR


