BEGIN:VCALENDAR
VERSION:2.0
PRODID:-//hacksw/handcal//NONSGML v1.0//EN
BEGIN:VEVENT
UID:10359
DTSTART;VALUE=DATE:20180330
URL;VALUE=URI:ohschonhell.at/?page_id=22064
SUMMARY:Easter Rave x Free Party
LOCATION:AUSLAGE
END:VEVENT
END:VCALENDAR


