BEGIN:VCALENDAR
VERSION:2.0
PRODID:-//hacksw/handcal//NONSGML v1.0//EN
BEGIN:VEVENT
UID:1036
DTSTART;VALUE=DATE:20140405
URL;VALUE=URI:ohschonhell.at/?page_id=3505
SUMMARY:VORANKÜNDIGUNG 12.04.2014 ELECTROBOOT 2014 ⚓ Boot Party
LOCATION:DONAUINSEL
END:VEVENT
END:VCALENDAR


