BEGIN:VCALENDAR
VERSION:2.0
PRODID:-//hacksw/handcal//NONSGML v1.0//EN
BEGIN:VEVENT
UID:10368
DTSTART;VALUE=DATE:20180328
URL;VALUE=URI:ohschonhell.at/?page_id=22082
SUMMARY:MERKWÜRDIG RADIO
LOCATION:DONAUTECHNO.COM
END:VEVENT
END:VCALENDAR


