BEGIN:VCALENDAR
VERSION:2.0
PRODID:-//hacksw/handcal//NONSGML v1.0//EN
BEGIN:VEVENT
UID:10371
DTSTART;VALUE=DATE:20180331
URL;VALUE=URI:ohschonhell.at/?page_id=22128
SUMMARY:Basstrace 031 - System Session - Kloudmen\, Dubape\, Meta
LOCATION:VENSTER 99
END:VEVENT
END:VCALENDAR


