BEGIN:VCALENDAR
VERSION:2.0
PRODID:-//hacksw/handcal//NONSGML v1.0//EN
BEGIN:VEVENT
UID:10393
DTSTART;VALUE=DATE:20180428
URL;VALUE=URI:ohschonhell.at/?page_id=22212
SUMMARY:Viennalizm [Kramladen]
LOCATION:Kramladen
END:VEVENT
END:VCALENDAR


