BEGIN:VCALENDAR
VERSION:2.0
PRODID:-//hacksw/handcal//NONSGML v1.0//EN
BEGIN:VEVENT
UID:10399
DTSTART;VALUE=DATE:20180420
URL;VALUE=URI:ohschonhell.at/?page_id=22224
SUMMARY:Meuterei x Akt des Abgangs pres. Buffered Multiple
LOCATION:Meuterei
END:VEVENT
END:VCALENDAR


