BEGIN:VCALENDAR
VERSION:2.0
PRODID:-//hacksw/handcal//NONSGML v1.0//EN
BEGIN:VEVENT
UID:10400
DTSTART;VALUE=DATE:20180420
URL;VALUE=URI:ohschonhell.at/?page_id=22226
SUMMARY:Horst &amp\; Hannelore - Dankeschön Wien w/ Reboot
LOCATION:HORST
END:VEVENT
END:VCALENDAR


