BEGIN:VCALENDAR
VERSION:2.0
PRODID:-//hacksw/handcal//NONSGML v1.0//EN
BEGIN:VEVENT
UID:10402
DTSTART;VALUE=DATE:20180414
URL;VALUE=URI:ohschonhell.at/?page_id=22232
SUMMARY:FLAsHBACK - Techno Classics/ JORO\, ROKIS\, TOM SNOW\, MC Mars+Spot
LOCATION:CAMERA CLUB
END:VEVENT
END:VCALENDAR


