BEGIN:VCALENDAR
VERSION:2.0
PRODID:-//hacksw/handcal//NONSGML v1.0//EN
BEGIN:VEVENT
UID:10425
DTSTART;VALUE=DATE:20180427
URL;VALUE=URI:ohschonhell.at/?page_id=22336
SUMMARY:Horst &amp\; Hannelore w/ Loco Dice
LOCATION:HORST
END:VEVENT
END:VCALENDAR


