BEGIN:VCALENDAR
VERSION:2.0
PRODID:-//hacksw/handcal//NONSGML v1.0//EN
BEGIN:VEVENT
UID:10434
DTSTART;VALUE=DATE:20180430
URL;VALUE=URI:ohschonhell.at/?page_id=22392
SUMMARY:Astronaughty Episode III - Cheers my Queers
LOCATION:CAMERA CLUB
END:VEVENT
END:VCALENDAR


