BEGIN:VCALENDAR
VERSION:2.0
PRODID:-//hacksw/handcal//NONSGML v1.0//EN
BEGIN:VEVENT
UID:10484
DTSTART;VALUE=DATE:20180520
URL;VALUE=URI:ohschonhell.at/?page_id=22546
SUMMARY:NWD - Neue Wiener Dekadenz #1
LOCATION:OPERA CLUB
END:VEVENT
END:VCALENDAR


