BEGIN:VCALENDAR
VERSION:2.0
PRODID:-//hacksw/handcal//NONSGML v1.0//EN
BEGIN:VEVENT
UID:10488
DTSTART;VALUE=DATE:20180511
URL;VALUE=URI:ohschonhell.at/?page_id=22554
SUMMARY:Die Taube tanzt I Goodnight.at Guide #9 Release Party
LOCATION:OPERA CLUB
END:VEVENT
END:VCALENDAR


