BEGIN:VCALENDAR
VERSION:2.0
PRODID:-//hacksw/handcal//NONSGML v1.0//EN
BEGIN:VEVENT
UID:1050
DTSTART;VALUE=DATE:20140411
URL;VALUE=URI:ohschonhell.at/?page_id=3518
SUMMARY:Switch! feat. SERUM
LOCATION:CAMERA CLUB
END:VEVENT
END:VCALENDAR


