BEGIN:VCALENDAR
VERSION:2.0
PRODID:-//hacksw/handcal//NONSGML v1.0//EN
BEGIN:VEVENT
UID:10527
DTSTART;VALUE=DATE:20180512
URL;VALUE=URI:ohschonhell.at/?page_id=22644
SUMMARY:Die Garteneröffnung
LOCATION:VOLKSGARTEN
END:VEVENT
END:VCALENDAR


