BEGIN:VCALENDAR
VERSION:2.0
PRODID:-//hacksw/handcal//NONSGML v1.0//EN
BEGIN:VEVENT
UID:10534
DTSTART;VALUE=DATE:20180525
URL;VALUE=URI:ohschonhell.at/?page_id=22659
SUMMARY:ART ATTech presents: HART Collective (Berlin)
LOCATION:Curtain
END:VEVENT
END:VCALENDAR


