BEGIN:VCALENDAR
VERSION:2.0
PRODID:-//hacksw/handcal//NONSGML v1.0//EN
BEGIN:VEVENT
UID:10558
DTSTART;VALUE=DATE:20180525
URL;VALUE=URI:ohschonhell.at/?page_id=22712
SUMMARY:10€urofunk pres. Fourward &amp\; Anatomix + Löwenzahn Wien
LOCATION:CAMERA CLUB
END:VEVENT
END:VCALENDAR


