BEGIN:VCALENDAR
VERSION:2.0
PRODID:-//hacksw/handcal//NONSGML v1.0//EN
BEGIN:VEVENT
UID:10560
DTSTART;VALUE=DATE:20180526
URL;VALUE=URI:ohschonhell.at/?page_id=22716
SUMMARY:Tiefton Anomalien || Andreas Weisz &amp\; KSAWA
LOCATION:OPERA CLUB
END:VEVENT
END:VCALENDAR


